BEGIN:VCALENDAR
VERSION:2.0
PRODID: -//CMS 5.0 //NONSGML //DE
BEGIN:VEVENT
SUMMARY:Jugendgottesdienst
DESCRIPTION:Wer entscheidet,\nwas gerecht ist?\nMt 6,33\n\n9:30 Uhr Juge
 ndchor\n\n\n\nhttps://olbernhau.nak-nordost.de/db/566743
UID:566743@olbernhau.nak-nordost.de
LOCATION:Thomas Wetzke
CATEGORIES:Gottesdienst,Jugend,Jugendgottesdienst,Kirchenbezirk Chemnitz (Alle Gemeinden),Kirchenbezirk Chemnitz
X-ORGANIZER:
STATUS:CONFIRMED
CLASS:PUBLIC
DTSTART:20260510T083000Z
DTEND:20260510T094500Z
DTSTAMP:20260420T061854Z
CREATED:20251220T175442Z
LAST-MODIFIED:20260330T054549Z
BEGIN:VALARM
UID:CE56ADAA-3C80-11F1-8D0B-6D595229324C
TRIGGER:-PT60M
ACTION:DISPLAY
DESCRIPTION:SUMMARY:Jugendgottesdienst
END:VALARM
END:VEVENT
END:VCALENDAR
